BEGIN:VCALENDAR
VERSION:2.0
PRODID:-//Institute for Defense and Business - ECPv6.15.17.1//NONSGML v1.0//EN
CALSCALE:GREGORIAN
METHOD:PUBLISH
X-ORIGINAL-URL:https://www.idb.org
X-WR-CALDESC:Events for Institute for Defense and Business
REFRESH-INTERVAL;VALUE=DURATION:PT1H
X-Robots-Tag:noindex
X-PUBLISHED-TTL:PT1H
BEGIN:VTIMEZONE
TZID:America/New_York
BEGIN:DAYLIGHT
TZOFFSETFROM:-0500
TZOFFSETTO:-0400
TZNAME:EDT
DTSTART:20220313T070000
END:DAYLIGHT
BEGIN:STANDARD
TZOFFSETFROM:-0400
TZOFFSETTO:-0500
TZNAME:EST
DTSTART:20221106T060000
END:STANDARD
BEGIN:DAYLIGHT
TZOFFSETFROM:-0500
TZOFFSETTO:-0400
TZNAME:EDT
DTSTART:20230312T070000
END:DAYLIGHT
BEGIN:STANDARD
TZOFFSETFROM:-0400
TZOFFSETTO:-0500
TZNAME:EST
DTSTART:20231105T060000
END:STANDARD
BEGIN:DAYLIGHT
TZOFFSETFROM:-0500
TZOFFSETTO:-0400
TZNAME:EDT
DTSTART:20240310T070000
END:DAYLIGHT
BEGIN:STANDARD
TZOFFSETFROM:-0400
TZOFFSETTO:-0500
TZNAME:EST
DTSTART:20241103T060000
END:STANDARD
BEGIN:DAYLIGHT
TZOFFSETFROM:-0500
TZOFFSETTO:-0400
TZNAME:EDT
DTSTART:20250309T070000
END:DAYLIGHT
BEGIN:STANDARD
TZOFFSETFROM:-0400
TZOFFSETTO:-0500
TZNAME:EST
DTSTART:20251102T060000
END:STANDARD
END:VTIMEZONE
BEGIN:VEVENT
DTSTART;TZID=America/New_York:20231023T180000
DTEND;TZID=America/New_York:20240623T130000
DTSTAMP:20260421T083646
CREATED:20230307T042234Z
LAST-MODIFIED:20230418T194510Z
UID:10000025-1698084000-1719147600@www.idb.org
SUMMARY:AIR-P
DESCRIPTION:Aviation Industrial Readiness Program\n\n\n\nThe Aviation Industrial Readiness Program (AIR-P) is an executive development program serving commanders and senior civilian leaders of our Nation’s depot\, arsenal\, and ammunition facilities.  AIR-P integrates leadership development and business management concepts to help Defense Organic Industrial Base leaders manage these large organizations effectively. \n\n\n\nBuilding a Business Mindset\n\n\n\nThe Institute for Defense and Business (IDB) has designed and customized the Aviation Industrial Readiness Program for the leadership of the defense industrial enterprise. AIR-P is an executive development program serving commanders and leaders of our nation’s depot\, arsenal\, and ammunition facilities. AIR-P integrates business acumen\, business best practices\, leader development\, and management processes & concepts. The program enables leaders within the Industrial Enterprise to adapt and replicate the latest technology\, systems\, and management practices to effectively lead large industrial organizations. \n\n\n\nIn 2018\, AIR-P was developed at the request of the Naval Air Systems Command and Commander of the Fleet Readiness Centers. The program is attended by leaders from all branches of the military/DoD civilians industrial complex and private-sector manufacturers. AIR-P is developed and administered by the IDB in partnership with faculty from North Carolina State University (NCSU)\, other leading universities\, and practicing experts in complex industrial operations.  \n\n\n\nView program details
URL:https://www.idb.org/calendar/air-p/
LOCATION:Institute for Defense and Business\, 1445 Environ Way\, Chapel Hill\, NC\, 27517\, United States
CATEGORIES:Upcoming Programs
ATTACH;FMTTYPE=image/jpeg:https://www.idb.org/wp-content/uploads/IDB-Upcoming-programs-DUS-SUS.jpg
END:VEVENT
BEGIN:VEVENT
DTSTART;TZID=America/New_York:20240310T180000
DTEND;TZID=America/New_York:20240315T133000
DTSTAMP:20260421T083646
CREATED:20230905T135624Z
LAST-MODIFIED:20240307T155315Z
UID:10000047-1710093600-1710509400@www.idb.org
SUMMARY:LOGTECH Executive
DESCRIPTION:Program for Executives in Logistics and Technology\n\n\n\nDesigned for Executives in defense and business who are focused on strategy. You will learn new tools and techniques for innovative thinking to support implementation of strategic direction to leverage people\, processes\, and technology in your organization to deliver effective and efficient capabilities. \n\n\n\n \n\n\n\n\n\n\n\nTransform your organization’s approach to technology and innovation across logistics and the supply chain. In this program designed for senior leaders in defense and business\, you will learn new tools and techniques for innovative thinking. Return to your organization ready to implement strategic direction that leverages your people\, processes\, and technology to deliver effective\, efficient logistics and supply chain capabilities. \n\n\n\nCollaborate with peers from diverse organizations across the public and private sector to address shared challenges from a big-picture perspective. Led by expert faculty and industry practitioners\, you’ll learn strategies for successful implementation and adoption of new technologies at the strategic and operational levels. \n\n\n\nProgram Details
URL:https://www.idb.org/calendar/logtech-executive/
LOCATION:NC
CATEGORIES:Upcoming Programs
ATTACH;FMTTYPE=image/jpeg:https://www.idb.org/wp-content/uploads/Logtech-Executive-Upcoming-Program-G-512488220.jpg
END:VEVENT
END:VCALENDAR